BEGIN:VCALENDAR
VERSION:2.0
PRODID:-//PKF Littlejohn//NONSGML Events//EN
CALSCALE:GREGORIAN
X-ORIGINAL-URL:https://pkf-l.ukstg9.rmaco.com/events/webinar-preparing-for-the-2022-23-financial-reporting-season/
X-WR-CALDESC:PKF Littlejohn - Events
X-WR-TIMEZONE:Europe/London
BEGIN:VTIMEZONE
TZID:Europe/London
X-LIC-LOCATION:Europe/London
BEGIN:DAYLIGHT
TZOFFSETFROM:+0000
TZOFFSETTO:+0100
TZNAME:BST
DTSTART:19700329T010000
RRULE:FREQ=YEARLY;BYMONTH=3;BYDAY=-1SU;BYHOUR=1;BYMINUTE=0;BYSECOND=0
END:DAYLIGHT
BEGIN:STANDARD
TZOFFSETFROM:+0100
TZOFFSETTO:+0000
TZNAME:GMT
DTSTART:19701025T010000
RRULE:FREQ=YEARLY;BYMONTH=10;BYDAY=-1SU;BYHOUR=1;BYMINUTE=0;BYSECOND=0
END:STANDARD
END:VTIMEZONE
BEGIN:VEVENT
UID:69e7afbfd4a55@pkfl-littlejohn.com
STATUS:CONFIRMED
DTSTAMP:20260421T171127Z
CREATED:20221129T083000Z
LAST-MODIFIED:20260421T171127Z
DTSTART;TZID=Europe/London:20221129T083000
DTEND;TZID=Europe/London:20221129T093000
SUMMARY:Webinar: Preparing for the 2022/23 financial reporting season
 
DESCRIPTION:Join our webinar on 29 November as our Capital Markets team gives an
  update focused on the financial reporting expectations for 2022/23.This
  webinar is designed to help ensure that listed company finance teams (and
  their non-executive directors) are aware of the 2022/23 year-end
  reporting environment and ESG reporting, therefore enabling them to
  consider the impact that it may have on their company and helping them
  prepare and review their annual report.What we will cover:Update on new
  standards, amendments to standards and legislative changesCommon
  disclosure and accounting errors picked up by the FRCESG reporting
 
X-ALT-DESC;FMTTYPE=text/html:<p>Join our webinar on 29 November as our Capital Markets team gives an
  update focused on the financial reporting expectations for 2022/23.This
  webinar is designed to help ensure that listed company finance teams (and
  their non-executive directors) are aware of the 2022/23 year-end
  reporting environment and ESG reporting, therefore enabling them to
  consider the impact that it may have on their company and helping them
  prepare and review their annual report.What we will cover:Update on new
  standards, amendments to standards and legislative changesCommon
  disclosure and accounting errors picked up by the FRCESG reporting</p>
 
CATEGORIES:past events
 
ORGANIZER;CN="PKF Littlejohn":MAILTO:info@pkfl-littlejohn.com
URL;VALUE=URI:https://pkf-l.ukstg9.rmaco.com/events/webinar-preparing-for-the-2022-23-financial-reporting-season/
END:VEVENT
END:VCALENDAR
