BEGIN:VCALENDAR
VERSION:2.0
PRODID:-//PKF Littlejohn//NONSGML Events//EN
CALSCALE:GREGORIAN
X-ORIGINAL-URL:https://pkf-l.ukstg9.rmaco.com/events/webinar-insolvency-debt/
X-WR-CALDESC:PKF Littlejohn - Events
X-WR-TIMEZONE:Europe/London
BEGIN:VTIMEZONE
TZID:Europe/London
X-LIC-LOCATION:Europe/London
BEGIN:DAYLIGHT
TZOFFSETFROM:+0000
TZOFFSETTO:+0100
TZNAME:BST
DTSTART:19700329T010000
RRULE:FREQ=YEARLY;BYMONTH=3;BYDAY=-1SU;BYHOUR=1;BYMINUTE=0;BYSECOND=0
END:DAYLIGHT
BEGIN:STANDARD
TZOFFSETFROM:+0100
TZOFFSETTO:+0000
TZNAME:GMT
DTSTART:19701025T010000
RRULE:FREQ=YEARLY;BYMONTH=10;BYDAY=-1SU;BYHOUR=1;BYMINUTE=0;BYSECOND=0
END:STANDARD
END:VTIMEZONE
BEGIN:VEVENT
UID:69e79a9d20a9e@pkfl-littlejohn.com
STATUS:CONFIRMED
DTSTAMP:20260421T154117Z
CREATED:20231003T110000Z
LAST-MODIFIED:20260421T154117Z
DTSTART;TZID=Europe/London:20231003T110000
DTEND;TZID=Europe/London:20231003T120000
SUMMARY:Webinar: Insolvency &#038; Debt
 
DESCRIPTION:We are delighted to be hosting the next Debt and Insolvency webinar in its
  series alongside industry experts, where we will explore current debt and
  insolvency levels in the UK. We will also discuss debt security and the
  options a business has when looking to recover its debts.On the day we
  will be joined by Jeffersen Gledhill from DWF Law LLP's Recoveries
  Department and the Chartered Institute of Credit Management's Advisory
  Board member, Atul Vadher. We will also review what Government agencies,
  including HMRC, are doing to tackle UK debt, and examine the latest
  reports on economic growth and how the outlook for 2024 could be more
  positive than many initial sceptics suggest. PKF’s Brendan Clarkson
  and Oliver Collinge from the Business Advisory Team and our panel of
  experts will take questions from the audience and give their expert
  opinions and advice.
 
X-ALT-DESC;FMTTYPE=text/html:<p>We are delighted to be hosting the next Debt and Insolvency webinar in
  its series alongside industry experts, where we will explore current debt
  and insolvency levels in the UK. We will also discuss debt security and
  the options a business has when looking to recover its debts.On the day
  we will be joined by Jeffersen Gledhill from DWF Law LLP&#039;s
  Recoveries Department and the Chartered Institute of Credit
  Management&#039;s Advisory Board member, Atul Vadher. We will also review
  what Government agencies, including HMRC, are doing to tackle UK debt,
  and examine the latest reports on economic growth and how the outlook for
  2024 could be more positive than many initial sceptics suggest. PKF’s
  Brendan Clarkson and Oliver Collinge from the Business Advisory Team and
  our panel of experts will take questions from the audience and give their
  expert opinions and advice.</p>
 
CATEGORIES:past events
 
ORGANIZER;CN="PKF Littlejohn":MAILTO:info@pkfl-littlejohn.com
URL;VALUE=URI:https://pkf-l.ukstg9.rmaco.com/events/webinar-insolvency-debt/
END:VEVENT
END:VCALENDAR
