BEGIN:VCALENDAR
VERSION:2.0
PRODID:-//PKF Littlejohn//NONSGML Events//EN
CALSCALE:GREGORIAN
X-ORIGINAL-URL:https://pkf-l.ukstg9.rmaco.com/events/tax-considerations-for-your-international-natural-resources-business/
X-WR-CALDESC:PKF Littlejohn - Events
X-WR-TIMEZONE:Europe/London
BEGIN:VTIMEZONE
TZID:Europe/London
X-LIC-LOCATION:Europe/London
BEGIN:DAYLIGHT
TZOFFSETFROM:+0000
TZOFFSETTO:+0100
TZNAME:BST
DTSTART:19700329T010000
RRULE:FREQ=YEARLY;BYMONTH=3;BYDAY=-1SU;BYHOUR=1;BYMINUTE=0;BYSECOND=0
END:DAYLIGHT
BEGIN:STANDARD
TZOFFSETFROM:+0100
TZOFFSETTO:+0000
TZNAME:GMT
DTSTART:19701025T010000
RRULE:FREQ=YEARLY;BYMONTH=10;BYDAY=-1SU;BYHOUR=1;BYMINUTE=0;BYSECOND=0
END:STANDARD
END:VTIMEZONE
BEGIN:VEVENT
UID:69e7745b1db21@pkfl-littlejohn.com
STATUS:CONFIRMED
DTSTAMP:20260421T125803Z
CREATED:20240626T093000Z
LAST-MODIFIED:20260421T125803Z
DTSTART;TZID=Europe/London:20240626T093000
DTEND;TZID=Europe/London:20240626T103000
SUMMARY:Tax considerations for your international Natural Resources business
 
DESCRIPTION:
Join our industry specialists who for an update on sector-specific
  taxation regulations and what HMRC expects from you on Wednesday 26 June
  2024.
 



They will help you navigate the key issues you need to consider before
  embarking on, and during your overseas venture, so you can seek the right
  advice at the correct time.​​​​
 



The event will be hosted by Head of Natural Resources, Joseph Archer, and
  Head of Tax, Chris Riley. They will be joined by:
 




Transfer Pricing Director, Farhan Azeem, who will discuss the importance
  and evolving impact of transfer pricing rules in the Natural Resources
  sector.
 



 Indirect Taxes Partner, Mark Ellis, who will show how Natural Resources
  groups can unlock and maximise recoveries of VAT (and similar non-UK
  taxes) on expenditure as quickly as possible.
 



We will also explore the withholding tax issues and opportunities Natural
  Resources companies should consider while extracting overseas funds. We
  will also consider the role of tax treaties on extracting these fund.
 




Date: Wednesday 26 June 2024&nbsp;Time:&nbsp;09:30 - 10:30 (BST)
 

X-ALT-DESC;FMTTYPE=text/html:<p>
 
Join our industry specialists who for an update on sector-specific
  taxation regulations and what HMRC expects from you on Wednesday 26 June
  2024.
 



They will help you navigate the key issues you need to consider before
  embarking on, and during your overseas venture, so you can seek the right
  advice at the correct time.​​​​
 



The event will be hosted by Head of Natural Resources, Joseph Archer, and
  Head of Tax, Chris Riley. They will be joined by:
 




Transfer Pricing Director, Farhan Azeem, who will discuss the importance
  and evolving impact of transfer pricing rules in the Natural Resources
  sector.
 



 Indirect Taxes Partner, Mark Ellis, who will show how Natural Resources
  groups can unlock and maximise recoveries of VAT (and similar non-UK
  taxes) on expenditure as quickly as possible.
 



We will also explore the withholding tax issues and opportunities Natural
  Resources companies should consider while extracting overseas funds. We
  will also consider the role of tax treaties on extracting these fund.
 




Date: Wednesday 26 June 2024&amp;nbsp;Time:&amp;nbsp;09:30 - 10:30 (BST)
 
</p>
 
CATEGORIES:past events
 
ORGANIZER;CN="PKF Littlejohn":MAILTO:info@pkfl-littlejohn.com
URL;VALUE=URI:https://pkf-l.ukstg9.rmaco.com/events/tax-considerations-for-your-international-natural-resources-business/
END:VEVENT
END:VCALENDAR
