BEGIN:VCALENDAR
VERSION:2.0
PRODID:-//PKF Littlejohn//NONSGML Events//EN
CALSCALE:GREGORIAN
X-ORIGINAL-URL:https://pkf-l.ukstg9.rmaco.com/events/preparing-your-listed-company-for-the-2023-24-financial-reporting-season/
X-WR-CALDESC:PKF Littlejohn - Events
X-WR-TIMEZONE:Europe/London
BEGIN:VTIMEZONE
TZID:Europe/London
X-LIC-LOCATION:Europe/London
BEGIN:DAYLIGHT
TZOFFSETFROM:+0000
TZOFFSETTO:+0100
TZNAME:BST
DTSTART:19700329T010000
RRULE:FREQ=YEARLY;BYMONTH=3;BYDAY=-1SU;BYHOUR=1;BYMINUTE=0;BYSECOND=0
END:DAYLIGHT
BEGIN:STANDARD
TZOFFSETFROM:+0100
TZOFFSETTO:+0000
TZNAME:GMT
DTSTART:19701025T010000
RRULE:FREQ=YEARLY;BYMONTH=10;BYDAY=-1SU;BYHOUR=1;BYMINUTE=0;BYSECOND=0
END:STANDARD
END:VTIMEZONE
BEGIN:VEVENT
UID:69e79ac65ebca@pkfl-littlejohn.com
STATUS:CONFIRMED
DTSTAMP:20260421T154158Z
CREATED:20231207T090000Z
LAST-MODIFIED:20260421T154158Z
DTSTART;TZID=Europe/London:20231207T090000
DTEND;TZID=Europe/London:20231207T100000
SUMMARY:Preparing your listed company for the 2023/24 financial reporting season
 
DESCRIPTION:Join our webinar at 9am on Thursday 7 December as our Capital Markets team
  gives an update on financial reporting expectations for 2023/24.This
  webinar is designed to help ensure that listed company finance teams (and
  their non-executive directors) are aware of the 2023/24 year-end
  reporting environment, its impact on their company and steps to prepare
  and review their annual report.What we will cover: Update on new
  standards, amendments to existing standards and legislative changesCommon
  disclosure and accounting errors picked up by the FRCOther corporate
  reporting requirements
 
X-ALT-DESC;FMTTYPE=text/html:<p>Join our webinar at 9am on Thursday 7 December as our Capital Markets
  team gives an update on financial reporting expectations for 2023/24.This
  webinar is designed to help ensure that listed company finance teams (and
  their non-executive directors) are aware of the 2023/24 year-end
  reporting environment, its impact on their company and steps to prepare
  and review their annual report.What we will cover: Update on new
  standards, amendments to existing standards and legislative changesCommon
  disclosure and accounting errors picked up by the FRCOther corporate
  reporting requirements</p>
 
CATEGORIES:past events
 
ORGANIZER;CN="PKF Littlejohn":MAILTO:info@pkfl-littlejohn.com
URL;VALUE=URI:https://pkf-l.ukstg9.rmaco.com/events/preparing-your-listed-company-for-the-2023-24-financial-reporting-season/
END:VEVENT
END:VCALENDAR
