BEGIN:VCALENDAR
VERSION:2.0
PRODID:-//PKF Littlejohn//NONSGML Events//EN
CALSCALE:GREGORIAN
X-ORIGINAL-URL:https://pkf-l.ukstg9.rmaco.com/events/preparing-your-business-for-the-new-ir35-rules-contractor-vs-employee/
X-WR-CALDESC:PKF Littlejohn - Events
X-WR-TIMEZONE:Europe/London
BEGIN:VTIMEZONE
TZID:Europe/London
X-LIC-LOCATION:Europe/London
BEGIN:DAYLIGHT
TZOFFSETFROM:+0000
TZOFFSETTO:+0100
TZNAME:BST
DTSTART:19700329T010000
RRULE:FREQ=YEARLY;BYMONTH=3;BYDAY=-1SU;BYHOUR=1;BYMINUTE=0;BYSECOND=0
END:DAYLIGHT
BEGIN:STANDARD
TZOFFSETFROM:+0100
TZOFFSETTO:+0000
TZNAME:GMT
DTSTART:19701025T010000
RRULE:FREQ=YEARLY;BYMONTH=10;BYDAY=-1SU;BYHOUR=1;BYMINUTE=0;BYSECOND=0
END:STANDARD
END:VTIMEZONE
BEGIN:VEVENT
UID:69e7b23a7ecd6@pkfl-littlejohn.com
STATUS:CONFIRMED
DTSTAMP:20260421T172202Z
CREATED:20210210T110000Z
LAST-MODIFIED:20260421T172202Z
DTSTART;TZID=Europe/London:20210210T110000
DTEND;TZID=Europe/London:20210210T120000
SUMMARY:Preparing your business for the new IR35 rules &#8211; contractor vs
  employee
 
DESCRIPTION:PKF and Clarkslegal are delighted to invite you to a live webinar on the
  upcoming changes to the Off-Payroll Working rules (commonly known as
  IR35), and to provide you with a chance to ask your questions about these
  rules. From 6 April 2021, if you engage with contractors in your
  business, then the IR35 rules will create new obligations, potential
  liabilities and increased risk for your organisation. Understanding and
  managing these risks and obligations is more than just another compliance
  burden. The rules will impact how you procure, pay and engage with the
  independent services (of a specific contractor) your business
  requires. Our panel will cover all you need to know about IR35 - from
  the basics of what is happening and what you need to do, to our insights
  into the challenges other businesses have already experienced in
  preparing for the changes. We will outline the steps that your business
  needs to undertake now to ensure that you are prepared for the reforms
  when they come in as well as the consequences of getting things done.We
  will cover:A run through of the IR35 rules and what they mean for you,The
  challenges of employment status determinationsInsights into the
  challenges business have facedHandling disputes over employment
  statusRe-negotiating contracts and potential employee rights issues.Our
  Speakers&nbsp;&nbsp;
 
X-ALT-DESC;FMTTYPE=text/html:<p>PKF and Clarkslegal are delighted to invite you to a live webinar on
  the upcoming changes to the Off-Payroll Working rules (commonly known as
  IR35), and to provide you with a chance to ask your questions about these
  rules. From 6 April 2021, if you engage with contractors in your
  business, then the IR35 rules will create new obligations, potential
  liabilities and increased risk for your organisation. Understanding and
  managing these risks and obligations is more than just another compliance
  burden. The rules will impact how you procure, pay and engage with the
  independent services (of a specific contractor) your business
  requires. Our panel will cover all you need to know about IR35 - from
  the basics of what is happening and what you need to do, to our insights
  into the challenges other businesses have already experienced in
  preparing for the changes. We will outline the steps that your business
  needs to undertake now to ensure that you are prepared for the reforms
  when they come in as well as the consequences of getting things done.We
  will cover:A run through of the IR35 rules and what they mean for you,The
  challenges of employment status determinationsInsights into the
  challenges business have facedHandling disputes over employment
  statusRe-negotiating contracts and potential employee rights issues.Our
  Speakers&amp;nbsp;&amp;nbsp;</p>
 
CATEGORIES:Webinars
 
ORGANIZER;CN="PKF Littlejohn":MAILTO:info@pkfl-littlejohn.com
URL;VALUE=URI:https://pkf-l.ukstg9.rmaco.com/events/preparing-your-business-for-the-new-ir35-rules-contractor-vs-employee/
END:VEVENT
END:VCALENDAR
