BEGIN:VCALENDAR
VERSION:2.0
PRODID:-//PKF Littlejohn//NONSGML Events//EN
CALSCALE:GREGORIAN
X-ORIGINAL-URL:https://pkf-l.ukstg9.rmaco.com/events/pkfs-insurance-seminar-in-gibraltar/
X-WR-CALDESC:PKF Littlejohn - Events
X-WR-TIMEZONE:Europe/London
BEGIN:VTIMEZONE
TZID:Europe/London
X-LIC-LOCATION:Europe/London
BEGIN:DAYLIGHT
TZOFFSETFROM:+0000
TZOFFSETTO:+0100
TZNAME:BST
DTSTART:19700329T010000
RRULE:FREQ=YEARLY;BYMONTH=3;BYDAY=-1SU;BYHOUR=1;BYMINUTE=0;BYSECOND=0
END:DAYLIGHT
BEGIN:STANDARD
TZOFFSETFROM:+0100
TZOFFSETTO:+0000
TZNAME:GMT
DTSTART:19701025T010000
RRULE:FREQ=YEARLY;BYMONTH=10;BYDAY=-1SU;BYHOUR=1;BYMINUTE=0;BYSECOND=0
END:STANDARD
END:VTIMEZONE
BEGIN:VEVENT
UID:69e79ab59c1b3@pkfl-littlejohn.com
STATUS:CONFIRMED
DTSTAMP:20260421T154141Z
CREATED:20221129T170000Z
LAST-MODIFIED:20260421T154141Z
DTSTART;TZID=Europe/London:20221129T170000
DTEND;TZID=Europe/London:20221129T200000
SUMMARY:PKF’s insurance seminar in Gibraltar
 
DESCRIPTION:Join us for our upcoming insurance seminar in Gibraltar on Tuesday 29
  November.
 
Following Brexit and the increasing ties between the UK and Gibraltar
  insurance market, it has never been more important for insurers in
  Gibraltar to have an understanding of the regulations in the UK, as they
  will drive many of the changing regulatory demands that will fall upon
  them in the future.
 
Our seminar will look at the following ongoing focus areas for insurance
  regulation:
 

The evolving ways in which the FCA seeks to protect insurance customers in
  UK and the demands that puts upon insurance intermediaries and up through
  the chain to insurers
 
The areas of focus for the PRA to ensure that insurers underwriting in the
  UK remain secure and also compliant with increasing focus on social
  issues
 
The way in which regulation by the GFSC in Gibraltar is evolving and how
  the direction of travel in the UK may influence it.
 

Timings:
 

17:00 – 17:30 - Arrival and welcome drinks
 
17:30 – 18:30 - Introduction and seminar
 
18:30 – 20:00 - Drinks and canapes
 





X-ALT-DESC;FMTTYPE=text/html:<p>Join us for our upcoming insurance seminar in Gibraltar on Tuesday 29
  November.
 
Following Brexit and the increasing ties between the UK and Gibraltar
  insurance market, it has never been more important for insurers in
  Gibraltar to have an understanding of the regulations in the UK, as they
  will drive many of the changing regulatory demands that will fall upon
  them in the future.
 
Our seminar will look at the following ongoing focus areas for insurance
  regulation:
 

The evolving ways in which the FCA seeks to protect insurance customers in
  UK and the demands that puts upon insurance intermediaries and up through
  the chain to insurers
 
The areas of focus for the PRA to ensure that insurers underwriting in the
  UK remain secure and also compliant with increasing focus on social
  issues
 
The way in which regulation by the GFSC in Gibraltar is evolving and how
  the direction of travel in the UK may influence it.
 

Timings:
 

17:00 – 17:30 - Arrival and welcome drinks
 
17:30 – 18:30 - Introduction and seminar
 
18:30 – 20:00 - Drinks and canapes
 




</p>
 
CATEGORIES:past events
 
ORGANIZER;CN="PKF Littlejohn":MAILTO:info@pkfl-littlejohn.com
URL;VALUE=URI:https://pkf-l.ukstg9.rmaco.com/events/pkfs-insurance-seminar-in-gibraltar/
END:VEVENT
END:VCALENDAR
