BEGIN:VCALENDAR
VERSION:2.0
PRODID:-//PKF Littlejohn//NONSGML Events//EN
CALSCALE:GREGORIAN
X-ORIGINAL-URL:https://pkf-l.ukstg9.rmaco.com/events/pkf-funds-family-office-dinner/
X-WR-CALDESC:PKF Littlejohn - Events
X-WR-TIMEZONE:Europe/London
BEGIN:VTIMEZONE
TZID:Europe/London
X-LIC-LOCATION:Europe/London
BEGIN:DAYLIGHT
TZOFFSETFROM:+0000
TZOFFSETTO:+0100
TZNAME:BST
DTSTART:19700329T010000
RRULE:FREQ=YEARLY;BYMONTH=3;BYDAY=-1SU;BYHOUR=1;BYMINUTE=0;BYSECOND=0
END:DAYLIGHT
BEGIN:STANDARD
TZOFFSETFROM:+0100
TZOFFSETTO:+0000
TZNAME:GMT
DTSTART:19701025T010000
RRULE:FREQ=YEARLY;BYMONTH=10;BYDAY=-1SU;BYHOUR=1;BYMINUTE=0;BYSECOND=0
END:STANDARD
END:VTIMEZONE
BEGIN:VEVENT
UID:69e79abfab096@pkfl-littlejohn.com
STATUS:CONFIRMED
DTSTAMP:20260421T154151Z
CREATED:20220310T180000Z
LAST-MODIFIED:20260421T154151Z
DTSTART;TZID=Europe/London:20220310T180000
DTEND;TZID=Europe/London:20220310T180000
SUMMARY:PKF Funds &#038; Family Office dinner
 
DESCRIPTION:Our Family Gathering Dinner Series was created to facilitate connections
  between families and single-family office executives in a safe and secure
  environment to enable you to share and learn from each other. The purpose
  of these meetings is very simple, to enable Family members and
  Single-family office executives to meet, share and learn in a safe
  space.As a G2 Family Member and an executive running a business that
  serves families, their private offices and their businesses we now see
  many families, ourselves included starting to look at our role in the new
  COVID world, what direction we take and where the new opportunities might
  beIt is extremely valuable to share stories, ideas and experiences in a
  safe environment with other family members and single family office
  executivesOur Ninth family gathering dinner will focus on the following
  themes: -We will hear from a G2 family member who will discuss her
  experience of implementing and driving the ESG/IMPACT agenda for her
  family’s private office. We aim to look at the process involved,
  aligning values with investment goals, getting access to the right
  opportunities, how to measure your impact, the tensions between impact
  versus returns, the challenges of getting all family members engaged and
  other related topics in this key area for all families and their private
  offices.The table will be open to peer conversation and discussion on
  this theme and any others that are of interest and importance to youAs
  always, the floor will be open for all participants to share and interact
  with each other.If you are a family member or single family office
  executive and are interested in joining us, please contact Paul Pratt in
  the first instance
 
X-ALT-DESC;FMTTYPE=text/html:<p>Our Family Gathering Dinner Series was created to facilitate
  connections between families and single-family office executives in a
  safe and secure environment to enable you to share and learn from each
  other. The purpose of these meetings is very simple, to enable Family
  members and Single-family office executives to meet, share and learn in a
  safe space.As a G2 Family Member and an executive running a business that
  serves families, their private offices and their businesses we now see
  many families, ourselves included starting to look at our role in the new
  COVID world, what direction we take and where the new opportunities might
  beIt is extremely valuable to share stories, ideas and experiences in a
  safe environment with other family members and single family office
  executivesOur Ninth family gathering dinner will focus on the following
  themes: -We will hear from a G2 family member who will discuss her
  experience of implementing and driving the ESG/IMPACT agenda for her
  family’s private office. We aim to look at the process involved,
  aligning values with investment goals, getting access to the right
  opportunities, how to measure your impact, the tensions between impact
  versus returns, the challenges of getting all family members engaged and
  other related topics in this key area for all families and their private
  offices.The table will be open to peer conversation and discussion on
  this theme and any others that are of interest and importance to youAs
  always, the floor will be open for all participants to share and interact
  with each other.If you are a family member or single family office
  executive and are interested in joining us, please contact Paul Pratt in
  the first instance</p>
 
CATEGORIES:Firm-hosted events
 
ORGANIZER;CN="PKF Littlejohn":MAILTO:info@pkfl-littlejohn.com
URL;VALUE=URI:https://pkf-l.ukstg9.rmaco.com/events/pkf-funds-family-office-dinner/
END:VEVENT
END:VCALENDAR
