BEGIN:VCALENDAR
VERSION:2.0
PRODID:-//PKF Littlejohn//NONSGML Events//EN
CALSCALE:GREGORIAN
X-ORIGINAL-URL:https://pkf-l.ukstg9.rmaco.com/events/new-old-event/
X-WR-CALDESC:PKF Littlejohn - Events
X-WR-TIMEZONE:Europe/London
BEGIN:VTIMEZONE
TZID:Europe/London
X-LIC-LOCATION:Europe/London
BEGIN:DAYLIGHT
TZOFFSETFROM:+0000
TZOFFSETTO:+0100
TZNAME:BST
DTSTART:19700329T010000
RRULE:FREQ=YEARLY;BYMONTH=3;BYDAY=-1SU;BYHOUR=1;BYMINUTE=0;BYSECOND=0
END:DAYLIGHT
BEGIN:STANDARD
TZOFFSETFROM:+0100
TZOFFSETTO:+0000
TZNAME:GMT
DTSTART:19701025T010000
RRULE:FREQ=YEARLY;BYMONTH=10;BYDAY=-1SU;BYHOUR=1;BYMINUTE=0;BYSECOND=0
END:STANDARD
END:VTIMEZONE
BEGIN:VEVENT
UID:69e7740f996be@pkfl-littlejohn.com
STATUS:CONFIRMED
DTSTAMP:20260421T125647Z
CREATED:20260319T080000Z
LAST-MODIFIED:20260421T125647Z
DTSTART;TZID=Europe/London:20260319T080000
SUMMARY:New event
 
DESCRIPTION:
Text goes here...
 

X-ALT-DESC;FMTTYPE=text/html:<p>
 
Text goes here...
 
</p>
 
CATEGORIES:In-person event
 
ORGANIZER;CN="PKF Littlejohn":MAILTO:info@pkfl-littlejohn.com
URL;VALUE=URI:https://pkf-l.ukstg9.rmaco.com/events/new-old-event/
END:VEVENT
END:VCALENDAR
