BEGIN:VCALENDAR
VERSION:2.0
PRODID:-//PKF Littlejohn//NONSGML Events//EN
CALSCALE:GREGORIAN
X-ORIGINAL-URL:https://pkf-l.ukstg9.rmaco.com/events/lessons-from-digital-transformation/
X-WR-CALDESC:PKF Littlejohn - Events
X-WR-TIMEZONE:Europe/London
BEGIN:VTIMEZONE
TZID:Europe/London
X-LIC-LOCATION:Europe/London
BEGIN:DAYLIGHT
TZOFFSETFROM:+0000
TZOFFSETTO:+0100
TZNAME:BST
DTSTART:19700329T010000
RRULE:FREQ=YEARLY;BYMONTH=3;BYDAY=-1SU;BYHOUR=1;BYMINUTE=0;BYSECOND=0
END:DAYLIGHT
BEGIN:STANDARD
TZOFFSETFROM:+0100
TZOFFSETTO:+0000
TZNAME:GMT
DTSTART:19701025T010000
RRULE:FREQ=YEARLY;BYMONTH=10;BYDAY=-1SU;BYHOUR=1;BYMINUTE=0;BYSECOND=0
END:STANDARD
END:VTIMEZONE
BEGIN:VEVENT
UID:69e7d6b23973a@pkfl-littlejohn.com
STATUS:CONFIRMED
DTSTAMP:20260421T195738Z
CREATED:20211124T160000Z
LAST-MODIFIED:20260421T195738Z
DTSTART;TZID=Europe/London:20211124T160000
DTEND;TZID=Europe/London:20211124T173000
SUMMARY:Lessons from Digital Transformation
 
DESCRIPTION:During the past 18 months there has been an acceleration of digital
  transformation projects, partly driven by the pandemic and also due to
  availability of new technology.Many of the major technology vendors now
  provide services as part of their standard packages which businesses can
  activate and deploy without expensive development work.Join us on the 24
  November 2021 at 4pm where we will explore some of the lessons from using
  these services, how PKF has automated processes, deployed apps and
  benefited from emerging cloud services, with specific examples and a case
  study on bringing elements together for departmental solutions.
 
X-ALT-DESC;FMTTYPE=text/html:<p>During the past 18 months there has been an acceleration of digital
  transformation projects, partly driven by the pandemic and also due to
  availability of new technology.Many of the major technology vendors now
  provide services as part of their standard packages which businesses can
  activate and deploy without expensive development work.Join us on the 24
  November 2021 at 4pm where we will explore some of the lessons from using
  these services, how PKF has automated processes, deployed apps and
  benefited from emerging cloud services, with specific examples and a case
  study on bringing elements together for departmental solutions.</p>
 
CATEGORIES:Webinars
 
ORGANIZER;CN="PKF Littlejohn":MAILTO:info@pkfl-littlejohn.com
URL;VALUE=URI:https://pkf-l.ukstg9.rmaco.com/events/lessons-from-digital-transformation/
END:VEVENT
END:VCALENDAR
