BEGIN:VCALENDAR
VERSION:2.0
PRODID:-//PKF Littlejohn//NONSGML Events//EN
CALSCALE:GREGORIAN
X-ORIGINAL-URL:https://pkf-l.ukstg9.rmaco.com/events/international-tax-webinars/
X-WR-CALDESC:PKF Littlejohn - Events
X-WR-TIMEZONE:Europe/London
BEGIN:VTIMEZONE
TZID:Europe/London
X-LIC-LOCATION:Europe/London
BEGIN:DAYLIGHT
TZOFFSETFROM:+0000
TZOFFSETTO:+0100
TZNAME:BST
DTSTART:19700329T010000
RRULE:FREQ=YEARLY;BYMONTH=3;BYDAY=-1SU;BYHOUR=1;BYMINUTE=0;BYSECOND=0
END:DAYLIGHT
BEGIN:STANDARD
TZOFFSETFROM:+0100
TZOFFSETTO:+0000
TZNAME:GMT
DTSTART:19701025T010000
RRULE:FREQ=YEARLY;BYMONTH=10;BYDAY=-1SU;BYHOUR=1;BYMINUTE=0;BYSECOND=0
END:STANDARD
END:VTIMEZONE
BEGIN:VEVENT
UID:69e7d6f63f902@pkfl-littlejohn.com
STATUS:CONFIRMED
DTSTAMP:20260421T195846Z
CREATED:20211116T100000Z
LAST-MODIFIED:20260421T195846Z
DTSTART;TZID=Europe/London:20211116T100000
DTEND;TZID=Europe/London:20211116T110000
SUMMARY:International Tax Webinars
 
DESCRIPTION:We’re delighted to invite you to register for a free series of
  International Tax webinars. Click on the links below to
  register.International movement and equity incentivisation of your team16
  November 2021 -10amAs the world opens up again, join Louise Fryer and Dan
  Kelly as they discuss some of the challenges that can be presented when a
  company operates internationally including making sure you have a robust
  global mobility policy in place, are meeting employer “in country”
  reporting and payroll obligations and, of course, the tax and social
  security implications for the individual. Louise and Dan will also
  consider international business travel with particular emphasis on what a
  UK company needs to do when receiving business visitors from an
  international group company.Register hereIndirect taxes issues of global
  trading25 January 2022 - 10amThe movement of goods and services cross
  border can create indirect tax issues in many countries, which can
  include the location of your customer. There is an increased focus on
  businesses that trade online and even for more traditional sectors such
  as manufacturing, indirect taxes can be complicated especially post
  Brexit. Join Luigi Lungarella as he presents three case studies to
  explore these issues and more.Register here
 
X-ALT-DESC;FMTTYPE=text/html:<p>We’re delighted to invite you to register for a free series of
  International Tax webinars. Click on the links below to
  register.International movement and equity incentivisation of your team16
  November 2021 -10amAs the world opens up again, join Louise Fryer and Dan
  Kelly as they discuss some of the challenges that can be presented when a
  company operates internationally including making sure you have a robust
  global mobility policy in place, are meeting employer “in country”
  reporting and payroll obligations and, of course, the tax and social
  security implications for the individual. Louise and Dan will also
  consider international business travel with particular emphasis on what a
  UK company needs to do when receiving business visitors from an
  international group company.Register hereIndirect taxes issues of global
  trading25 January 2022 - 10amThe movement of goods and services cross
  border can create indirect tax issues in many countries, which can
  include the location of your customer. There is an increased focus on
  businesses that trade online and even for more traditional sectors such
  as manufacturing, indirect taxes can be complicated especially post
  Brexit. Join Luigi Lungarella as he presents three case studies to
  explore these issues and more.Register here</p>
 
CATEGORIES:Webinars
 
ORGANIZER;CN="PKF Littlejohn":MAILTO:info@pkfl-littlejohn.com
URL;VALUE=URI:https://pkf-l.ukstg9.rmaco.com/events/international-tax-webinars/
END:VEVENT
END:VCALENDAR
