BEGIN:VCALENDAR
VERSION:2.0
PRODID:-//PKF Littlejohn//NONSGML Events//EN
CALSCALE:GREGORIAN
X-ORIGINAL-URL:https://pkf-l.ukstg9.rmaco.com/events/indirect-taxes-issues-of-global-trading/
X-WR-CALDESC:PKF Littlejohn - Events
X-WR-TIMEZONE:Europe/London
BEGIN:VTIMEZONE
TZID:Europe/London
X-LIC-LOCATION:Europe/London
BEGIN:DAYLIGHT
TZOFFSETFROM:+0000
TZOFFSETTO:+0100
TZNAME:BST
DTSTART:19700329T010000
RRULE:FREQ=YEARLY;BYMONTH=3;BYDAY=-1SU;BYHOUR=1;BYMINUTE=0;BYSECOND=0
END:DAYLIGHT
BEGIN:STANDARD
TZOFFSETFROM:+0100
TZOFFSETTO:+0000
TZNAME:GMT
DTSTART:19701025T010000
RRULE:FREQ=YEARLY;BYMONTH=10;BYDAY=-1SU;BYHOUR=1;BYMINUTE=0;BYSECOND=0
END:STANDARD
END:VTIMEZONE
BEGIN:VEVENT
UID:69e7c22073bb2@pkfl-littlejohn.com
STATUS:CONFIRMED
DTSTAMP:20260421T182952Z
CREATED:20220125T100000Z
LAST-MODIFIED:20260421T182952Z
DTSTART;TZID=Europe/London:20220125T100000
DTEND;TZID=Europe/London:20220125T110000
SUMMARY:Indirect taxes: issues of global trading
 
DESCRIPTION:The movement of goods and services cross border can create indirect tax
  issues in many countries, which can include the location of your
  customer. There is an increased focus on businesses that trade online and
  even for more traditional sectors such as manufacturing, indirect taxes
  can be complicated especially post Brexit. Join Luigi Lungarella as he
  presents three case studies to explore these issues and more.&nbsp;
 
X-ALT-DESC;FMTTYPE=text/html:<p>The movement of goods and services cross border can create indirect tax
  issues in many countries, which can include the location of your
  customer. There is an increased focus on businesses that trade online and
  even for more traditional sectors such as manufacturing, indirect taxes
  can be complicated especially post Brexit. Join Luigi Lungarella as he
  presents three case studies to explore these issues and
  more.&amp;nbsp;</p>
 
CATEGORIES:Webinars
 
ORGANIZER;CN="PKF Littlejohn":MAILTO:info@pkfl-littlejohn.com
URL;VALUE=URI:https://pkf-l.ukstg9.rmaco.com/events/indirect-taxes-issues-of-global-trading/
END:VEVENT
END:VCALENDAR
