BEGIN:VCALENDAR
VERSION:2.0
PRODID:-//PKF Littlejohn//NONSGML Events//EN
CALSCALE:GREGORIAN
X-ORIGINAL-URL:https://pkf-l.ukstg9.rmaco.com/events/icaew-cass-5-audits-insights-and-hot-topics/
X-WR-CALDESC:PKF Littlejohn - Events
X-WR-TIMEZONE:Europe/London
BEGIN:VTIMEZONE
TZID:Europe/London
X-LIC-LOCATION:Europe/London
BEGIN:DAYLIGHT
TZOFFSETFROM:+0000
TZOFFSETTO:+0100
TZNAME:BST
DTSTART:19700329T010000
RRULE:FREQ=YEARLY;BYMONTH=3;BYDAY=-1SU;BYHOUR=1;BYMINUTE=0;BYSECOND=0
END:DAYLIGHT
BEGIN:STANDARD
TZOFFSETFROM:+0100
TZOFFSETTO:+0000
TZNAME:GMT
DTSTART:19701025T010000
RRULE:FREQ=YEARLY;BYMONTH=10;BYDAY=-1SU;BYHOUR=1;BYMINUTE=0;BYSECOND=0
END:STANDARD
END:VTIMEZONE
BEGIN:VEVENT
UID:69e7afbcf2b15@pkfl-littlejohn.com
STATUS:CONFIRMED
DTSTAMP:20260421T171124Z
CREATED:20231004T100000Z
LAST-MODIFIED:20260421T171124Z
DTSTART;TZID=Europe/London:20231004T100000
DTEND;TZID=Europe/London:20231004T113000
SUMMARY:ICAEW &#8211; CASS 5 audits: insights and hot topics
 
DESCRIPTION:Join Partner John Needham, the ICAEW, and the Financial Services Faculty
  for a webinar at 10am on Wednesday 4 October. This webinar will provide
  helpful insights on hot topics specifically focused on CASS 5 insurance
  intermediary firms. The session will help those preparing for their CASS
  5 audits, and for pro-active reflection on whether challenges being faced
  across the industry are being appropriately considered at insurance
  brokers.Key benefits:FCA introduction and areas of focus for 2023Top 10
  findings arising from recent CASS 5 auditsA deep dive into Insurer Terms
  of Business Agreements and Risk Transfer mattersHow we think about IT
  related risk and approach to standard market systemsAn introduction to
  CASS 8 Mandates and where this can arise in insurance brokers
 
X-ALT-DESC;FMTTYPE=text/html:<p>Join Partner John Needham, the ICAEW, and the Financial Services
  Faculty for a webinar at 10am on Wednesday 4 October. This webinar will
  provide helpful insights on hot topics specifically focused on CASS 5
  insurance intermediary firms. The session will help those preparing for
  their CASS 5 audits, and for pro-active reflection on whether challenges
  being faced across the industry are being appropriately considered at
  insurance brokers.Key benefits:FCA introduction and areas of focus for
  2023Top 10 findings arising from recent CASS 5 auditsA deep dive into
  Insurer Terms of Business Agreements and Risk Transfer mattersHow we
  think about IT related risk and approach to standard market systemsAn
  introduction to CASS 8 Mandates and where this can arise in insurance
  brokers</p>
 
CATEGORIES:past events
 
ORGANIZER;CN="PKF Littlejohn":MAILTO:info@pkfl-littlejohn.com
URL;VALUE=URI:https://pkf-l.ukstg9.rmaco.com/events/icaew-cass-5-audits-insights-and-hot-topics/
END:VEVENT
END:VCALENDAR
