BEGIN:VCALENDAR
VERSION:2.0
PRODID:-//PKF Littlejohn//NONSGML Events//EN
CALSCALE:GREGORIAN
X-ORIGINAL-URL:https://pkf-l.ukstg9.rmaco.com/events/global-mobility-emerging-from-covid/
X-WR-CALDESC:PKF Littlejohn - Events
X-WR-TIMEZONE:Europe/London
BEGIN:VTIMEZONE
TZID:Europe/London
X-LIC-LOCATION:Europe/London
BEGIN:DAYLIGHT
TZOFFSETFROM:+0000
TZOFFSETTO:+0100
TZNAME:BST
DTSTART:19700329T010000
RRULE:FREQ=YEARLY;BYMONTH=3;BYDAY=-1SU;BYHOUR=1;BYMINUTE=0;BYSECOND=0
END:DAYLIGHT
BEGIN:STANDARD
TZOFFSETFROM:+0100
TZOFFSETTO:+0000
TZNAME:GMT
DTSTART:19701025T010000
RRULE:FREQ=YEARLY;BYMONTH=10;BYDAY=-1SU;BYHOUR=1;BYMINUTE=0;BYSECOND=0
END:STANDARD
END:VTIMEZONE
BEGIN:VEVENT
UID:69e7d6b90abc1@pkfl-littlejohn.com
STATUS:CONFIRMED
DTSTAMP:20260421T195745Z
CREATED:20210609T110000Z
LAST-MODIFIED:20260421T195745Z
DTSTART;TZID=Europe/London:20210609T110000
DTEND;TZID=Europe/London:20210609T120000
SUMMARY:Global Mobility &#8211; Emerging from COVID
 
DESCRIPTION:We would be delighted if you could join us on the 9 June at 11am for our
  webinar examining how the business world has changed as we emerge from
  COVID and the ability and opportunity to travel opens up. New
  opportunities present themselves; New challenges present themselves.
  Employees are unlikely to return to the standard 5 days a week in the
  office. Employers are receiving requests from people to work remotely,
  often from a different country.But what does this mean for employers?Join
  our Head of Global Mobility Louise Fryer as she considers the impact of
  these changes from several perspectives including payroll, tax and social
  security as well as raising some important considerations from an HR
  perspective.&nbsp;
 
X-ALT-DESC;FMTTYPE=text/html:<p>We would be delighted if you could join us on the 9 June at 11am for
  our webinar examining how the business world has changed as we emerge
  from COVID and the ability and opportunity to travel opens up. New
  opportunities present themselves; New challenges present themselves.
  Employees are unlikely to return to the standard 5 days a week in the
  office. Employers are receiving requests from people to work remotely,
  often from a different country.But what does this mean for employers?Join
  our Head of Global Mobility Louise Fryer as she considers the impact of
  these changes from several perspectives including payroll, tax and social
  security as well as raising some important considerations from an HR
  perspective.&amp;nbsp;</p>
 
CATEGORIES:Webinars
 
ORGANIZER;CN="PKF Littlejohn":MAILTO:info@pkfl-littlejohn.com
URL;VALUE=URI:https://pkf-l.ukstg9.rmaco.com/events/global-mobility-emerging-from-covid/
END:VEVENT
END:VCALENDAR
