BEGIN:VCALENDAR
VERSION:2.0
PRODID:-//PKF Littlejohn//NONSGML Events//EN
CALSCALE:GREGORIAN
X-ORIGINAL-URL:https://pkf-l.ukstg9.rmaco.com/events/global-indirect-taxes-webinar-eat-your-greens/
X-WR-CALDESC:PKF Littlejohn - Events
X-WR-TIMEZONE:Europe/London
BEGIN:VTIMEZONE
TZID:Europe/London
X-LIC-LOCATION:Europe/London
BEGIN:DAYLIGHT
TZOFFSETFROM:+0000
TZOFFSETTO:+0100
TZNAME:BST
DTSTART:19700329T010000
RRULE:FREQ=YEARLY;BYMONTH=3;BYDAY=-1SU;BYHOUR=1;BYMINUTE=0;BYSECOND=0
END:DAYLIGHT
BEGIN:STANDARD
TZOFFSETFROM:+0100
TZOFFSETTO:+0000
TZNAME:GMT
DTSTART:19701025T010000
RRULE:FREQ=YEARLY;BYMONTH=10;BYDAY=-1SU;BYHOUR=1;BYMINUTE=0;BYSECOND=0
END:STANDARD
END:VTIMEZONE
BEGIN:VEVENT
UID:69e7afccd3e72@pkfl-littlejohn.com
STATUS:CONFIRMED
DTSTAMP:20260421T171140Z
CREATED:20230328T110000Z
LAST-MODIFIED:20260421T171140Z
DTSTART;TZID=Europe/London:20230328T110000
DTEND;TZID=Europe/London:20230328T120000
SUMMARY:Global Indirect Taxes Webinar: Eat your greens
 
DESCRIPTION:We’re delighted to invite you to register for the next webinar in our
  Global Indirect Taxes series, focusing on the Plastic Packaging Tax (PPT)
  which came into force on 1 April 2022.It is estimated that tens of
  thousands of UK businesses across a broad range of industries and sectors
  are affected by the impact of PPT. However, obtaining the necessary data
  and managing the associated risks is not straightforward, with many
  businesses being held liable for non-compliance by other organisations
  within its supply chain.With many jurisdictions introducing and amending
  tax legislation to fit the global environmental agenda, the indirect tax
  world looks set to significantly change.  But is the role of taxation in
  sustainability a carrot or a stick?Learning ObjectivesAwareness of the
  environmental taxes affecting behaviors for people and
  businesses.Awareness of latest trends and developments around
  environmental taxes and what businesses can do to minimise administrative
  requirements.Speaker Bios Luigi Lungarella – Director – Indirect Tax
  (PKF Littlejohn – London (UK))Luigi has over 20 years' experience of
  indirect taxation, having previously worked as an indirect tax consultant
  for two Big 4 firms and a privately-owned group specialising in property
  investment and fund management, principal investments, and financial
  services. Luigi chairs the Indirect Taxes pillar within the PKF network,
  is a member of the PKF International Tax Committee and a member of the
  Chartered Institute of Taxation (CIOT) indirect tax
  committee.&nbsp;Stephen Dale (Hedeos – Paris (FR))Stephen has worked in
  French taxation for some 30 years, having previously worked with PwC in
  the UK and in France (1976-2017).He now works for French law firm Hedeos.
  He is president of the International VAT Association, and a member of the
  EU Commission’s VAT Expert Group.Stephen is also a founding board
  member of both the Association de la Pratique de la TVA européenne
  (APTE), and the Association des Représentants Fiscaux Français and a
  member of the OECD’s TAG on consumption taxes. Stephen lectures at
  three French universities on indirect and UK taxation.
 
X-ALT-DESC;FMTTYPE=text/html:<p>We’re delighted to invite you to register for the next webinar in our
  Global Indirect Taxes series, focusing on the Plastic Packaging Tax (PPT)
  which came into force on 1 April 2022.It is estimated that tens of
  thousands of UK businesses across a broad range of industries and sectors
  are affected by the impact of PPT. However, obtaining the necessary data
  and managing the associated risks is not straightforward, with many
  businesses being held liable for non-compliance by other organisations
  within its supply chain.With many jurisdictions introducing and amending
  tax legislation to fit the global environmental agenda, the indirect tax
  world looks set to significantly change.  But is the role of taxation in
  sustainability a carrot or a stick?Learning ObjectivesAwareness of the
  environmental taxes affecting behaviors for people and
  businesses.Awareness of latest trends and developments around
  environmental taxes and what businesses can do to minimise administrative
  requirements.Speaker Bios Luigi Lungarella – Director – Indirect Tax
  (PKF Littlejohn – London (UK))Luigi has over 20 years&#039; experience
  of indirect taxation, having previously worked as an indirect tax
  consultant for two Big 4 firms and a privately-owned group specialising
  in property investment and fund management, principal investments, and
  financial services. Luigi chairs the Indirect Taxes pillar within the
  PKF network, is a member of the PKF International Tax Committee and a
  member of the Chartered Institute of Taxation (CIOT) indirect tax
  committee.&amp;nbsp;Stephen Dale (Hedeos – Paris (FR))Stephen has
  worked in French taxation for some 30 years, having previously worked
  with PwC in the UK and in France (1976-2017).He now works for French law
  firm Hedeos. He is president of the International VAT Association, and a
  member of the EU Commission’s VAT Expert Group.Stephen is also a
  founding board member of both the Association de la Pratique de la TVA
  européenne (APTE), and the Association des Représentants Fiscaux
  Français and a member of the OECD’s TAG on consumption taxes. Stephen
  lectures at three French universities on indirect and UK taxation.</p>
 
CATEGORIES:Webinars
 
ORGANIZER;CN="PKF Littlejohn":MAILTO:info@pkfl-littlejohn.com
URL;VALUE=URI:https://pkf-l.ukstg9.rmaco.com/events/global-indirect-taxes-webinar-eat-your-greens/
END:VEVENT
END:VCALENDAR
