BEGIN:VCALENDAR
VERSION:2.0
PRODID:-//PKF Littlejohn//NONSGML Events//EN
CALSCALE:GREGORIAN
X-ORIGINAL-URL:https://pkf-l.ukstg9.rmaco.com/events/global-indirect-taxes-series/
X-WR-CALDESC:PKF Littlejohn - Events
X-WR-TIMEZONE:Europe/London
BEGIN:VTIMEZONE
TZID:Europe/London
X-LIC-LOCATION:Europe/London
BEGIN:DAYLIGHT
TZOFFSETFROM:+0000
TZOFFSETTO:+0100
TZNAME:BST
DTSTART:19700329T010000
RRULE:FREQ=YEARLY;BYMONTH=3;BYDAY=-1SU;BYHOUR=1;BYMINUTE=0;BYSECOND=0
END:DAYLIGHT
BEGIN:STANDARD
TZOFFSETFROM:+0100
TZOFFSETTO:+0000
TZNAME:GMT
DTSTART:19701025T010000
RRULE:FREQ=YEARLY;BYMONTH=10;BYDAY=-1SU;BYHOUR=1;BYMINUTE=0;BYSECOND=0
END:STANDARD
END:VTIMEZONE
BEGIN:VEVENT
UID:69e7e9cd08423@pkfl-littlejohn.com
STATUS:CONFIRMED
DTSTAMP:20260421T211909Z
CREATED:20211006T130000Z
LAST-MODIFIED:20260421T211909Z
DTSTART;TZID=Europe/London:20211006T130000
DTEND;TZID=Europe/London:20211006T140000
SUMMARY:Global Indirect Taxes Series
 
DESCRIPTION:We are delighted to invite you to register for a free series of Global
  Indirect Taxes webinars starting on 6 October.The series will help you
  and your organisation navigate the significant changes that have been
  made to indirect taxes globally and provide an overview of technical and
  commercial considerations across all key jurisdictions.Our webinars will
  also cover e-commerce, cross-border services, the concept of an
  establishment from a VAT and direct tax perspective, and customs duties.
  Attendees will be provided with real-world examples of how to minimise
  cross-border indirect tax issues.Each event will be led by VAT Director,
  Luigi Lungarella who will be joined by indirect tax experts from across
  the PKF International global network, including the USA, Russia and the
  EU.Sign up for your free webinarsSession 1 - 6th October 2021 - Global
  Indirect Tax Update Session 2 - 1st December 2021 - eCommerce - Goods
  and Market places Session 3 - 2nd February 2022 - Cross-border services
  – navigating local requirements  Session 4 - 6th April 2022 - The
  servitization of the economy and the importance of
  establishments Session 5 - 8th June 2022 - Cross-border goods – The
  hidden costs and challenges of Customs 
 
X-ALT-DESC;FMTTYPE=text/html:<p>We are delighted to invite you to register for a free series of Global
  Indirect Taxes webinars starting on 6 October.The series will help you
  and your organisation navigate the significant changes that have been
  made to indirect taxes globally and provide an overview of technical and
  commercial considerations across all key jurisdictions.Our webinars will
  also cover e-commerce, cross-border services, the concept of an
  establishment from a VAT and direct tax perspective, and customs duties.
  Attendees will be provided with real-world examples of how to minimise
  cross-border indirect tax issues.Each event will be led by VAT Director,
  Luigi Lungarella who will be joined by indirect tax experts from across
  the PKF International global network, including the USA, Russia and the
  EU.Sign up for your free webinarsSession 1 - 6th October 2021 - Global
  Indirect Tax Update Session 2 - 1st December 2021 - eCommerce - Goods
  and Market places Session 3 - 2nd February 2022 - Cross-border services
  – navigating local requirements  Session 4 - 6th April 2022 - The
  servitization of the economy and the importance of
  establishments Session 5 - 8th June 2022 - Cross-border goods – The
  hidden costs and challenges of Customs </p>
 
CATEGORIES:Webinars
 
ORGANIZER;CN="PKF Littlejohn":MAILTO:info@pkfl-littlejohn.com
URL;VALUE=URI:https://pkf-l.ukstg9.rmaco.com/events/global-indirect-taxes-series/
END:VEVENT
END:VCALENDAR
