BEGIN:VCALENDAR
VERSION:2.0
PRODID:-//PKF Littlejohn//NONSGML Events//EN
CALSCALE:GREGORIAN
X-ORIGINAL-URL:https://pkf-l.ukstg9.rmaco.com/events/financial-reporting-in-the-natural-resources-sector/
X-WR-CALDESC:PKF Littlejohn - Events
X-WR-TIMEZONE:Europe/London
BEGIN:VTIMEZONE
TZID:Europe/London
X-LIC-LOCATION:Europe/London
BEGIN:DAYLIGHT
TZOFFSETFROM:+0000
TZOFFSETTO:+0100
TZNAME:BST
DTSTART:19700329T010000
RRULE:FREQ=YEARLY;BYMONTH=3;BYDAY=-1SU;BYHOUR=1;BYMINUTE=0;BYSECOND=0
END:DAYLIGHT
BEGIN:STANDARD
TZOFFSETFROM:+0100
TZOFFSETTO:+0000
TZNAME:GMT
DTSTART:19701025T010000
RRULE:FREQ=YEARLY;BYMONTH=10;BYDAY=-1SU;BYHOUR=1;BYMINUTE=0;BYSECOND=0
END:STANDARD
END:VTIMEZONE
BEGIN:VEVENT
UID:69e7743ac8893@pkfl-littlejohn.com
STATUS:CONFIRMED
DTSTAMP:20260421T125730Z
CREATED:20241010T090000Z
LAST-MODIFIED:20260421T125730Z
DTSTART;TZID=Europe/London:20241010T090000
DTEND;TZID=Europe/London:20241011T100000
SUMMARY:Financial Reporting in the Natural Resources sector
 
DESCRIPTION:
Join our webinar on Thursday 17 October as our industry specialists help
  you to navigate the key requirements of sector-specific accounting issues
  and what your auditor will be expecting from you.&nbsp;This webinar is
  designed to help ensure finance teams in the Natural Resources sector are
  up to date on 2024/25 year-end reporting matters, enabling them to
  consider the potential impact on their financial statements and assisting
  them in preparing their annual report.
 



What we will cover:
 




General regulatory updates, including ISA (UK) 600 revisions, changes to
  UK Listing Rules and new requirements for European listings
 



Environmental disclosures, including TCFD reporting requirements and best
  practice
 



Common financing arrangements and pitfalls.
 




There will be time at the end to ask questions of our Natural Resources
  specialists. 
 



Date:&nbsp;Thursday 17 OctoberTime:&nbsp;From 09:00 - 10:00
 





X-ALT-DESC;FMTTYPE=text/html:<p>
 
Join our webinar on Thursday 17 October as our industry specialists help
  you to navigate the key requirements of sector-specific accounting issues
  and what your auditor will be expecting from you.&amp;nbsp;This webinar
  is designed to help ensure finance teams in the Natural Resources sector
  are up to date on 2024/25 year-end reporting matters, enabling them to
  consider the potential impact on their financial statements and assisting
  them in preparing their annual report.
 



What we will cover:
 




General regulatory updates, including ISA (UK) 600 revisions, changes to
  UK Listing Rules and new requirements for European listings
 



Environmental disclosures, including TCFD reporting requirements and best
  practice
 



Common financing arrangements and pitfalls.
 




There will be time at the end to ask questions of our Natural Resources
  specialists. 
 



Date:&amp;nbsp;Thursday 17 OctoberTime:&amp;nbsp;From 09:00 - 10:00
 




</p>
 
CATEGORIES:past events
 
ORGANIZER;CN="PKF Littlejohn":MAILTO:info@pkfl-littlejohn.com
URL;VALUE=URI:https://pkf-l.ukstg9.rmaco.com/events/financial-reporting-in-the-natural-resources-sector/
END:VEVENT
END:VCALENDAR
