BEGIN:VCALENDAR
VERSION:2.0
PRODID:-//PKF Littlejohn//NONSGML Events//EN
CALSCALE:GREGORIAN
X-ORIGINAL-URL:https://pkf-l.ukstg9.rmaco.com/events/fca-regulation-wind-down-planning-are-you-prepared/
X-WR-CALDESC:PKF Littlejohn - Events
X-WR-TIMEZONE:Europe/London
BEGIN:VTIMEZONE
TZID:Europe/London
X-LIC-LOCATION:Europe/London
BEGIN:DAYLIGHT
TZOFFSETFROM:+0000
TZOFFSETTO:+0100
TZNAME:BST
DTSTART:19700329T010000
RRULE:FREQ=YEARLY;BYMONTH=3;BYDAY=-1SU;BYHOUR=1;BYMINUTE=0;BYSECOND=0
END:DAYLIGHT
BEGIN:STANDARD
TZOFFSETFROM:+0100
TZOFFSETTO:+0000
TZNAME:GMT
DTSTART:19701025T010000
RRULE:FREQ=YEARLY;BYMONTH=10;BYDAY=-1SU;BYHOUR=1;BYMINUTE=0;BYSECOND=0
END:STANDARD
END:VTIMEZONE
BEGIN:VEVENT
UID:69e778a06d7f2@pkfl-littlejohn.com
STATUS:CONFIRMED
DTSTAMP:20260421T131616Z
CREATED:20251013T100000Z
LAST-MODIFIED:20260421T131616Z
DTSTART;TZID=Europe/London:20251013T100000
DTEND;TZID=Europe/London:20251013T150000
SUMMARY:FCA Regulation &#038; Wind-Down Planning – Are You Prepared?
 
DESCRIPTION:Join Head of Insurance Intermediaries Paul Goldwin and the MBL at their
  seminar on Friday 13 October - FCA Regulation &amp; Wind-Down Planning -
  Are You Prepared?
 
A wind-down plan is compulsory for all regulated firms, not just those in
  financial distress. The regulator requires all firms to prepare well
  thought out plans to demonstrate that they will be able to exit the
  market in an orderly manner without causing undue harm to customers or
  markets.
 
The FCA have mentioned that they will continue to assess firms' financial
  resilience against their minimum standards and are aware that this is an
  area of weakness for many firms.
 
With this in mind, together with the MBL, Paul Goldwin has put together a
  full day course, aimed at FCA regulated firms who may have not yet put
  together a wind down plan or need assistance with the formulation and
  development of a wind down plan.
 
The course will cover the following:
 

Background:
 

FCA 2021/22 business plan - overarching priority - financial resilience
  and resolution
 
FCA expectations and monitoring
 
FCA expects firms to have a well thought out wind down plan to demonstrate
  how they will exit the market in an orderly manner without causing undue
  harm to customers and markets
 


FCA guidance:
 

WDPG June 2020 (refreshed August 2021)
 
Interaction with threshold condition 2.4
 
Principle 4 (PRIN 2.1)
 


WDPs - general principles
 
 
 

WDP - structure:
 

Choice and evaluation of trigger event
 
Plan to steer firm in orderly manner
 
Assessment of financial/non-financial resource requirements
 
Process for identifying and mitigating material risks/obstacles to orderly
  wind down
 


In practice:
 

Financial projections/modelling
 
Detailed practical narrative plan
 


FCA thematic - high level review:
 

Early stage of maturity
 
Well short of FCA's minimum standard
 
Liquidity considerations
 
Intra-group dependencies
 
Shortcomings with wind down triggers
 


FCA - multi survey review:
 

General results
 
What constitutes good practice?
 
Examples of poor practice
 


FCA conclusions and plans going forward - are you prepared?
 





X-ALT-DESC;FMTTYPE=text/html:<p>Join Head of Insurance Intermediaries Paul Goldwin and the MBL at their
  seminar on Friday 13 October - FCA Regulation &amp;amp; Wind-Down
  Planning - Are You Prepared?
 
A wind-down plan is compulsory for all regulated firms, not just those in
  financial distress. The regulator requires all firms to prepare well
  thought out plans to demonstrate that they will be able to exit the
  market in an orderly manner without causing undue harm to customers or
  markets.
 
The FCA have mentioned that they will continue to assess firms&#039;
  financial resilience against their minimum standards and are aware that
  this is an area of weakness for many firms.
 
With this in mind, together with the MBL, Paul Goldwin has put together a
  full day course, aimed at FCA regulated firms who may have not yet put
  together a wind down plan or need assistance with the formulation and
  development of a wind down plan.
 
The course will cover the following:
 

Background:
 

FCA 2021/22 business plan - overarching priority - financial resilience
  and resolution
 
FCA expectations and monitoring
 
FCA expects firms to have a well thought out wind down plan to demonstrate
  how they will exit the market in an orderly manner without causing undue
  harm to customers and markets
 


FCA guidance:
 

WDPG June 2020 (refreshed August 2021)
 
Interaction with threshold condition 2.4
 
Principle 4 (PRIN 2.1)
 


WDPs - general principles
 
 
 

WDP - structure:
 

Choice and evaluation of trigger event
 
Plan to steer firm in orderly manner
 
Assessment of financial/non-financial resource requirements
 
Process for identifying and mitigating material risks/obstacles to orderly
  wind down
 


In practice:
 

Financial projections/modelling
 
Detailed practical narrative plan
 


FCA thematic - high level review:
 

Early stage of maturity
 
Well short of FCA&#039;s minimum standard
 
Liquidity considerations
 
Intra-group dependencies
 
Shortcomings with wind down triggers
 


FCA - multi survey review:
 

General results
 
What constitutes good practice?
 
Examples of poor practice
 


FCA conclusions and plans going forward - are you prepared?
 




</p>
 
CATEGORIES:Webinars
 
ORGANIZER;CN="PKF Littlejohn":MAILTO:info@pkfl-littlejohn.com
URL;VALUE=URI:https://pkf-l.ukstg9.rmaco.com/events/fca-regulation-wind-down-planning-are-you-prepared/
END:VEVENT
END:VCALENDAR
