BEGIN:VCALENDAR
VERSION:2.0
PRODID:-//PKF Littlejohn//NONSGML Events//EN
CALSCALE:GREGORIAN
X-ORIGINAL-URL:https://pkf-l.ukstg9.rmaco.com/events/digital-transformation-in-action/
X-WR-CALDESC:PKF Littlejohn - Events
X-WR-TIMEZONE:Europe/London
BEGIN:VTIMEZONE
TZID:Europe/London
X-LIC-LOCATION:Europe/London
BEGIN:DAYLIGHT
TZOFFSETFROM:+0000
TZOFFSETTO:+0100
TZNAME:BST
DTSTART:19700329T010000
RRULE:FREQ=YEARLY;BYMONTH=3;BYDAY=-1SU;BYHOUR=1;BYMINUTE=0;BYSECOND=0
END:DAYLIGHT
BEGIN:STANDARD
TZOFFSETFROM:+0100
TZOFFSETTO:+0000
TZNAME:GMT
DTSTART:19701025T010000
RRULE:FREQ=YEARLY;BYMONTH=10;BYDAY=-1SU;BYHOUR=1;BYMINUTE=0;BYSECOND=0
END:STANDARD
END:VTIMEZONE
BEGIN:VEVENT
UID:69e7af8598d2a@pkfl-littlejohn.com
STATUS:CONFIRMED
DTSTAMP:20260421T171029Z
CREATED:20220222T110000Z
LAST-MODIFIED:20260421T171029Z
DTSTART;TZID=Europe/London:20220222T110000
DTEND;TZID=Europe/London:20220222T120000
SUMMARY:Digital Transformation in Action
 
DESCRIPTION:Join the PKF Digital team for the latest webinar in our series. In this
  event we'll look at idea generation, project governance and some example
  projects deployed with the Office365 platform.    During the past 18
  months there has been an acceleration of digital transformation projects,
  partly driven by the pandemic and also due to availability of new
  technology.  We will explore some of the lessons from using these
  services, how PKF has automated processes, deployed apps and benefited
  from emerging cloud services, with specific examples and a case study on
  bringing elements together for departmental solutions. 
 
X-ALT-DESC;FMTTYPE=text/html:<p>Join the PKF Digital team for the latest webinar in our series. In this
  event we&#039;ll look at idea generation, project governance and some
  example projects deployed with the Office365 platform.    During the
  past 18 months there has been an acceleration of digital transformation
  projects, partly driven by the pandemic and also due to availability of
  new technology.  We will explore some of the lessons from using these
  services, how PKF has automated processes, deployed apps and benefited
  from emerging cloud services, with specific examples and a case study on
  bringing elements together for departmental solutions. </p>
 
CATEGORIES:Webinars
 
ORGANIZER;CN="PKF Littlejohn":MAILTO:info@pkfl-littlejohn.com
URL;VALUE=URI:https://pkf-l.ukstg9.rmaco.com/events/digital-transformation-in-action/
END:VEVENT
END:VCALENDAR
