BEGIN:VCALENDAR
VERSION:2.0
PRODID:-//PKF Littlejohn//NONSGML Events//EN
CALSCALE:GREGORIAN
X-ORIGINAL-URL:https://pkf-l.ukstg9.rmaco.com/events/broking-briefing-people-mobility-after-brexit/
X-WR-CALDESC:PKF Littlejohn - Events
X-WR-TIMEZONE:Europe/London
BEGIN:VTIMEZONE
TZID:Europe/London
X-LIC-LOCATION:Europe/London
BEGIN:DAYLIGHT
TZOFFSETFROM:+0000
TZOFFSETTO:+0100
TZNAME:BST
DTSTART:19700329T010000
RRULE:FREQ=YEARLY;BYMONTH=3;BYDAY=-1SU;BYHOUR=1;BYMINUTE=0;BYSECOND=0
END:DAYLIGHT
BEGIN:STANDARD
TZOFFSETFROM:+0100
TZOFFSETTO:+0000
TZNAME:GMT
DTSTART:19701025T010000
RRULE:FREQ=YEARLY;BYMONTH=10;BYDAY=-1SU;BYHOUR=1;BYMINUTE=0;BYSECOND=0
END:STANDARD
END:VTIMEZONE
BEGIN:VEVENT
UID:69e7c4418ad7b@pkfl-littlejohn.com
STATUS:CONFIRMED
DTSTAMP:20260421T183857Z
CREATED:20201126T110000Z
LAST-MODIFIED:20260421T183857Z
DTSTART;TZID=Europe/London:20201126T110000
DTEND;TZID=Europe/London:20201126T110000
SUMMARY:Broking Briefing: People mobility after Brexit
 
DESCRIPTION:The Brexit transition period ends on 31 December 2020. Most insurance
  intermediaries have either established a suitable structure or entered
  into commercial arrangements to deal with EU insurance clients and risks
  to try and ensure things go as smoothly as possible upon exiting the
  UK.But have you thought about the international movements of your
  employees? Join us on 26 November at 11am when our Head of Global
  Mobility, Louise Fryer will cover what you need to consider when you have
  employees and office holders who travel cross-border or go to work in a
  foreign country for longer periods of time. Our webinar will help you to
  understand more about company reporting obligations, tax and potentially
  changing social security arrangements for mobile employees following the
  UK's exit from the EU. We will also provide a brief introduction to the
  different requirements for people moving between the UK and a country
  where a tax treaty exists versus moving between the UK and tax non-treaty
  countries. We will have a Q&amp;A session at the end of the session when
  Louise will be joined by Corporate Tax Partner, Howard Jones and
  encourage all participants to get involved.
 
X-ALT-DESC;FMTTYPE=text/html:<p>The Brexit transition period ends on 31 December 2020. Most insurance
  intermediaries have either established a suitable structure or entered
  into commercial arrangements to deal with EU insurance clients and risks
  to try and ensure things go as smoothly as possible upon exiting the
  UK.But have you thought about the international movements of your
  employees? Join us on 26 November at 11am when our Head of Global
  Mobility, Louise Fryer will cover what you need to consider when you have
  employees and office holders who travel cross-border or go to work in a
  foreign country for longer periods of time. Our webinar will help you to
  understand more about company reporting obligations, tax and potentially
  changing social security arrangements for mobile employees following the
  UK&#039;s exit from the EU. We will also provide a brief introduction to
  the different requirements for people moving between the UK and a country
  where a tax treaty exists versus moving between the UK and tax non-treaty
  countries. We will have a Q&amp;amp;A session at the end of the session
  when Louise will be joined by Corporate Tax Partner, Howard Jones and
  encourage all participants to get involved.</p>
 
CATEGORIES:Webinars
 
ORGANIZER;CN="PKF Littlejohn":MAILTO:info@pkfl-littlejohn.com
URL;VALUE=URI:https://pkf-l.ukstg9.rmaco.com/events/broking-briefing-people-mobility-after-brexit/
END:VEVENT
END:VCALENDAR
