BEGIN:VCALENDAR
VERSION:2.0
PRODID:-//PKF Littlejohn//NONSGML Events//EN
CALSCALE:GREGORIAN
X-ORIGINAL-URL:https://pkf-l.ukstg9.rmaco.com/events/broking-briefing-brexit-the-end-of-the-beginning/
X-WR-CALDESC:PKF Littlejohn - Events
X-WR-TIMEZONE:Europe/London
BEGIN:VTIMEZONE
TZID:Europe/London
X-LIC-LOCATION:Europe/London
BEGIN:DAYLIGHT
TZOFFSETFROM:+0000
TZOFFSETTO:+0100
TZNAME:BST
DTSTART:19700329T010000
RRULE:FREQ=YEARLY;BYMONTH=3;BYDAY=-1SU;BYHOUR=1;BYMINUTE=0;BYSECOND=0
END:DAYLIGHT
BEGIN:STANDARD
TZOFFSETFROM:+0100
TZOFFSETTO:+0000
TZNAME:GMT
DTSTART:19701025T010000
RRULE:FREQ=YEARLY;BYMONTH=10;BYDAY=-1SU;BYHOUR=1;BYMINUTE=0;BYSECOND=0
END:STANDARD
END:VTIMEZONE
BEGIN:VEVENT
UID:69e7b19ca18aa@pkfl-littlejohn.com
STATUS:CONFIRMED
DTSTAMP:20260421T171924Z
CREATED:20201102T110000Z
LAST-MODIFIED:20260421T171924Z
DTSTART;TZID=Europe/London:20201102T110000
DTEND;TZID=Europe/London:20201102T120000
SUMMARY:Broking Briefing: Brexit – the end of the beginning
 
DESCRIPTION:The Brexit transition period ends on 31 December 2020. Most insurance
  intermediaries have either established a suitable structure or entered
  into commercial arrangements to deal with EU insurance clients and
  risks.Lloyd’s adopted 1 October 2020 as its commencement date for
  underwriting post Brexit EU insurance with consequential impact on cover
  holders and brokers.  This highlighted a number of operational
  challenges for those businesses. Join us on 2 November 2020 at 11am when
  Howard Jones will look at the insurance sector’s adopted Back Branching
  structure and some of the challenges being faced by intermediaries, and
  provide real practical advice for the insurance industry.   It will be
  an opportunity for attendees to ask questions, share details of the
  preparation steps they have taken and to hear from our specialists.
 
X-ALT-DESC;FMTTYPE=text/html:<p>The Brexit transition period ends on 31 December 2020. Most insurance
  intermediaries have either established a suitable structure or entered
  into commercial arrangements to deal with EU insurance clients and
  risks.Lloyd’s adopted 1 October 2020 as its commencement date for
  underwriting post Brexit EU insurance with consequential impact on cover
  holders and brokers.  This highlighted a number of operational
  challenges for those businesses. Join us on 2 November 2020 at 11am when
  Howard Jones will look at the insurance sector’s adopted Back Branching
  structure and some of the challenges being faced by intermediaries, and
  provide real practical advice for the insurance industry.   It will be
  an opportunity for attendees to ask questions, share details of the
  preparation steps they have taken and to hear from our specialists.</p>
 
CATEGORIES:Webinars
 
ORGANIZER;CN="PKF Littlejohn":MAILTO:info@pkfl-littlejohn.com
URL;VALUE=URI:https://pkf-l.ukstg9.rmaco.com/events/broking-briefing-brexit-the-end-of-the-beginning/
END:VEVENT
END:VCALENDAR
