BEGIN:VCALENDAR
VERSION:2.0
PRODID:-//PKF Littlejohn//NONSGML Events//EN
CALSCALE:GREGORIAN
X-ORIGINAL-URL:https://pkf-l.ukstg9.rmaco.com/events/broking-breakfast-ma-tax-and-regulatory-update/
X-WR-CALDESC:PKF Littlejohn - Events
X-WR-TIMEZONE:Europe/London
BEGIN:VTIMEZONE
TZID:Europe/London
X-LIC-LOCATION:Europe/London
BEGIN:DAYLIGHT
TZOFFSETFROM:+0000
TZOFFSETTO:+0100
TZNAME:BST
DTSTART:19700329T010000
RRULE:FREQ=YEARLY;BYMONTH=3;BYDAY=-1SU;BYHOUR=1;BYMINUTE=0;BYSECOND=0
END:DAYLIGHT
BEGIN:STANDARD
TZOFFSETFROM:+0100
TZOFFSETTO:+0000
TZNAME:GMT
DTSTART:19701025T010000
RRULE:FREQ=YEARLY;BYMONTH=10;BYDAY=-1SU;BYHOUR=1;BYMINUTE=0;BYSECOND=0
END:STANDARD
END:VTIMEZONE
BEGIN:VEVENT
UID:69e7746286c0c@pkfl-littlejohn.com
STATUS:CONFIRMED
DTSTAMP:20260421T125810Z
CREATED:20240711T100000Z
LAST-MODIFIED:20260421T125810Z
DTSTART;TZID=Europe/London:20240711T100000
DTEND;TZID=Europe/London:20240711T110000
SUMMARY:Broking Breakfast: M&#038;A, Tax and Regulatory update
 
DESCRIPTION:
Join us in person on Thursday 11 July at the PKF Leeds office, as our
  specialist panel of experts share valuable insights in areas relevant to
  numerous insurance intermediaries based in the north of England, in
  particular those focused on growth through acquisitions.
 



Transaction Services Partner, Will Lanyon, will provide an overview of the
  insurance intermediary M&amp;A market and due diligence findings
  identified by our Insurance Transaction Services team.
 



We will also explore the tax impact on rewarding employees with share
  ownership and provide an introduction to tax advantaged share schemes
  from Tax Partner, Catherine Heyes.
 



Finally, Financial Services Partner, Martin Watson, will discuss the
  nature, purpose and contents of the FCA's 'Retail Mediation Activities
  Return' (RMAR) and highlight the common queries and problems that firms
  encounter when completing the form.
 

X-ALT-DESC;FMTTYPE=text/html:<p>
 
Join us in person on Thursday 11 July at the PKF Leeds office, as our
  specialist panel of experts share valuable insights in areas relevant to
  numerous insurance intermediaries based in the north of England, in
  particular those focused on growth through acquisitions.
 



Transaction Services Partner, Will Lanyon, will provide an overview of the
  insurance intermediary M&amp;amp;A market and due diligence findings
  identified by our Insurance Transaction Services team.
 



We will also explore the tax impact on rewarding employees with share
  ownership and provide an introduction to tax advantaged share schemes
  from Tax Partner, Catherine Heyes.
 



Finally, Financial Services Partner, Martin Watson, will discuss the
  nature, purpose and contents of the FCA&#039;s &#039;Retail Mediation
  Activities Return&#039; (RMAR) and highlight the common queries and
  problems that firms encounter when completing the form.
 
</p>
 
CATEGORIES:past events
 
ORGANIZER;CN="PKF Littlejohn":MAILTO:info@pkfl-littlejohn.com
URL;VALUE=URI:https://pkf-l.ukstg9.rmaco.com/events/broking-breakfast-ma-tax-and-regulatory-update/
END:VEVENT
END:VCALENDAR
