BEGIN:VCALENDAR
VERSION:2.0
PRODID:-//PKF Littlejohn//NONSGML Events//EN
CALSCALE:GREGORIAN
X-ORIGINAL-URL:https://pkf-l.ukstg9.rmaco.com/events/broking-breakfast-leeds-sharing-the-shortcomings-in-wind-down-planning-and-delving-into-cass-5-hot-topics/
X-WR-CALDESC:PKF Littlejohn - Events
X-WR-TIMEZONE:Europe/London
BEGIN:VTIMEZONE
TZID:Europe/London
X-LIC-LOCATION:Europe/London
BEGIN:DAYLIGHT
TZOFFSETFROM:+0000
TZOFFSETTO:+0100
TZNAME:BST
DTSTART:19700329T010000
RRULE:FREQ=YEARLY;BYMONTH=3;BYDAY=-1SU;BYHOUR=1;BYMINUTE=0;BYSECOND=0
END:DAYLIGHT
BEGIN:STANDARD
TZOFFSETFROM:+0100
TZOFFSETTO:+0000
TZNAME:GMT
DTSTART:19701025T010000
RRULE:FREQ=YEARLY;BYMONTH=10;BYDAY=-1SU;BYHOUR=1;BYMINUTE=0;BYSECOND=0
END:STANDARD
END:VTIMEZONE
BEGIN:VEVENT
UID:69e78b7da8237@pkfl-littlejohn.com
STATUS:CONFIRMED
DTSTAMP:20260421T143645Z
CREATED:20240220T083000Z
LAST-MODIFIED:20260421T143645Z
DTSTART;TZID=Europe/London:20240220T083000
DTEND;TZID=Europe/London:20240220T100000
SUMMARY:Broking Breakfast Leeds: Sharing the shortcomings in wind down planning,
  and delving into CASS 5 hot topics
 
DESCRIPTION:We are delighted to invite you to our upcoming Broking Breakfast event in
  Leeds. We will be sharing the shortcomings in Wind-down Planning, and
  delve into CASS 5 hot topics, keeping you updated with the latest FCA
  perspectives. Following its recent various reviews, the FCA have found
  that wind-down plans fell short of the minimum standards they expected,
  and confirmed they would continue engaging with the market in 2024 –
  but are you prepared?Join us on Tuesday 20 February at our offices in
  Leeds where Partner and Head of Insurance Intermediaries, Paul Goldwin,
  will provide an insight into the FCA’s findings, plans going forward
  and what it means for insurance brokers.Although firms’ compliance with
  the CASS 5 client money rules is improving, the FCA continues to look at
  specific areas of the CASS rules in more detail. So, what should you look
  out for? Tom Herne, Senior Manager in our Financial Services team, will
  look at CASS 5 hot topics, ensuring you’re up to date with the latest
  FCA thinking.
 
X-ALT-DESC;FMTTYPE=text/html:<p>We are delighted to invite you to our upcoming Broking Breakfast event
  in Leeds. We will be sharing the shortcomings in Wind-down Planning, and
  delve into CASS 5 hot topics, keeping you updated with the latest FCA
  perspectives. Following its recent various reviews, the FCA have found
  that wind-down plans fell short of the minimum standards they expected,
  and confirmed they would continue engaging with the market in 2024 –
  but are you prepared?Join us on Tuesday 20 February at our offices in
  Leeds where Partner and Head of Insurance Intermediaries, Paul Goldwin,
  will provide an insight into the FCA’s findings, plans going forward
  and what it means for insurance brokers.Although firms’ compliance with
  the CASS 5 client money rules is improving, the FCA continues to look at
  specific areas of the CASS rules in more detail. So, what should you look
  out for? Tom Herne, Senior Manager in our Financial Services team, will
  look at CASS 5 hot topics, ensuring you’re up to date with the latest
  FCA thinking.</p>
 
CATEGORIES:past events
 
ORGANIZER;CN="PKF Littlejohn":MAILTO:info@pkfl-littlejohn.com
URL;VALUE=URI:https://pkf-l.ukstg9.rmaco.com/events/broking-breakfast-leeds-sharing-the-shortcomings-in-wind-down-planning-and-delving-into-cass-5-hot-topics/
END:VEVENT
END:VCALENDAR
