BEGIN:VCALENDAR
VERSION:2.0
PRODID:-//PKF Littlejohn//NONSGML Events//EN
CALSCALE:GREGORIAN
X-ORIGINAL-URL:https://pkf-l.ukstg9.rmaco.com/events/biba-2024-fringe-session/
X-WR-CALDESC:PKF Littlejohn - Events
X-WR-TIMEZONE:Europe/London
BEGIN:VTIMEZONE
TZID:Europe/London
X-LIC-LOCATION:Europe/London
BEGIN:DAYLIGHT
TZOFFSETFROM:+0000
TZOFFSETTO:+0100
TZNAME:BST
DTSTART:19700329T010000
RRULE:FREQ=YEARLY;BYMONTH=3;BYDAY=-1SU;BYHOUR=1;BYMINUTE=0;BYSECOND=0
END:DAYLIGHT
BEGIN:STANDARD
TZOFFSETFROM:+0100
TZOFFSETTO:+0000
TZNAME:GMT
DTSTART:19701025T010000
RRULE:FREQ=YEARLY;BYMONTH=10;BYDAY=-1SU;BYHOUR=1;BYMINUTE=0;BYSECOND=0
END:STANDARD
END:VTIMEZONE
BEGIN:VEVENT
UID:69e79a93154ba@pkfl-littlejohn.com
STATUS:CONFIRMED
DTSTAMP:20260421T154107Z
CREATED:20240515T160000Z
LAST-MODIFIED:20260421T154107Z
DTSTART;TZID=Europe/London:20240515T160000
DTEND;TZID=Europe/London:20240515T163000
SUMMARY:BIBA 2024 Fringe session
 
DESCRIPTION:Buying or selling an insurance intermediary can be a complex, stressful
  and expensive process. Our specialist Transaction Services and Tax
  experts will share valuable insights based on their involvement in many
  transactions, acting for buyers and sellers.This session will be hosted
  by:John Needham, Transaction Advisory Partner, will discuss financial and
  client money issues and solutions.Tom Golding, Corporate Tax Partner,
  will explore common tax findings, and why addressing these before a
  transaction starts can make the sale process easier.By attending this
  session, delegates will:Understand some of the problematic issues that
  are frequently found during insurance intermediary due diligence projects
  and address these issues in their own or target businesses.Learn how to
  handle these types of issues before they become deal breakers or very
  expensive to resolve.You can also schedule a meeting with our team or
  drop by Stand C87 at The BIBA 2024 Conference.To register for our BIBA
  2024 Fringe session, simply click on the 'view or modify registration'
  link provided in your confirmation email from The BIBA Conference.
 
X-ALT-DESC;FMTTYPE=text/html:<p>Buying or selling an insurance intermediary can be a complex, stressful
  and expensive process. Our specialist Transaction Services and Tax
  experts will share valuable insights based on their involvement in many
  transactions, acting for buyers and sellers.This session will be hosted
  by:John Needham, Transaction Advisory Partner, will discuss financial and
  client money issues and solutions.Tom Golding, Corporate Tax Partner,
  will explore common tax findings, and why addressing these before a
  transaction starts can make the sale process easier.By attending this
  session, delegates will:Understand some of the problematic issues that
  are frequently found during insurance intermediary due diligence projects
  and address these issues in their own or target businesses.Learn how to
  handle these types of issues before they become deal breakers or very
  expensive to resolve.You can also schedule a meeting with our team or
  drop by Stand C87 at The BIBA 2024 Conference.To register for our BIBA
  2024 Fringe session, simply click on the &#039;view or modify
  registration&#039; link provided in your confirmation email from The BIBA
  Conference.</p>
 
CATEGORIES:Firm-hosted events, past events
 
ORGANIZER;CN="PKF Littlejohn":MAILTO:info@pkfl-littlejohn.com
URL;VALUE=URI:https://pkf-l.ukstg9.rmaco.com/events/biba-2024-fringe-session/
END:VEVENT
END:VCALENDAR
